BEGIN:VCALENDAR
VERSION:2.0
PRODID:-//Arab Chamber of Commerce - ECPv6.15.20//NONSGML v1.0//EN
CALSCALE:GREGORIAN
METHOD:PUBLISH
X-ORIGINAL-URL:https://arab-chamber.org
X-WR-CALDESC:Events for Arab Chamber of Commerce
REFRESH-INTERVAL;VALUE=DURATION:PT1H
X-Robots-Tag:noindex
X-PUBLISHED-TTL:PT1H
BEGIN:VTIMEZONE
TZID:America/Chicago
BEGIN:DAYLIGHT
TZOFFSETFROM:-0600
TZOFFSETTO:-0500
TZNAME:CDT
DTSTART:20240310T080000
END:DAYLIGHT
BEGIN:STANDARD
TZOFFSETFROM:-0500
TZOFFSETTO:-0600
TZNAME:CST
DTSTART:20241103T070000
END:STANDARD
BEGIN:DAYLIGHT
TZOFFSETFROM:-0600
TZOFFSETTO:-0500
TZNAME:CDT
DTSTART:20250309T080000
END:DAYLIGHT
BEGIN:STANDARD
TZOFFSETFROM:-0500
TZOFFSETTO:-0600
TZNAME:CST
DTSTART:20251102T070000
END:STANDARD
BEGIN:DAYLIGHT
TZOFFSETFROM:-0600
TZOFFSETTO:-0500
TZNAME:CDT
DTSTART:20260308T080000
END:DAYLIGHT
BEGIN:STANDARD
TZOFFSETFROM:-0500
TZOFFSETTO:-0600
TZNAME:CST
DTSTART:20261101T070000
END:STANDARD
END:VTIMEZONE
BEGIN:VEVENT
DTSTART;TZID=America/Chicago:20251230T000000
DTEND;TZID=America/Chicago:20251230T235959
DTSTAMP:20260424T051423
CREATED:20250205T153705Z
LAST-MODIFIED:20250205T153705Z
UID:10001008-1767052800-1767139199@arab-chamber.org
SUMMARY:Chamber Closed for Christmas Holiday
DESCRIPTION:The Arab Chamber of Commerce will be closed for Christmas Wednesday\, December 24 – Friday\, January 2. The Chamber will resume normal operational schedule on Monday\, January 5. Please email lupton@arab-chamber.org for assistance.
URL:https://arab-chamber.org/event/chamber-closed-for-christmas-holiday/2025-12-30/
LOCATION:Arab Chamber of Commerce\, 1157 North Main Street\, Arab\, AL\, 35016\, United States
CATEGORIES:Chamber Events
ATTACH;FMTTYPE=image/png:https://arab-chamber.org/wp-content/uploads/2024/11/Thanksgiving.png
ORGANIZER;CN="Arab Chamber of Commerce":MAILTO:info@arab-chamber.org
END:VEVENT
BEGIN:VEVENT
DTSTART;TZID=America/Chicago:20251230T100000
DTEND;TZID=America/Chicago:20251230T120000
DTSTAMP:20260424T051423
CREATED:20250716T155105Z
LAST-MODIFIED:20250716T155105Z
UID:10001486-1767088800-1767096000@arab-chamber.org
SUMMARY:Stitches in the Stacks Crochet Club
DESCRIPTION:Join the Arab Public Library every Tuesday from 10:00 AM to 12:00 PM for the Stitches in the Stacks Crochet Club\, open to ages 18 and older. Whether you’re a beginner or experienced\, all are welcome—lessons will be provided if needed.
URL:https://arab-chamber.org/event/stitches-in-the-stacks-crochet-club-3/2025-12-30/
LOCATION:Arab Public Library\, 325 2nd St NW\, Arab\, AL\, 35016\, United States
CATEGORIES:FREE Events
ATTACH;FMTTYPE=image/png:https://arab-chamber.org/wp-content/uploads/2025/07/PicnicinthePark-2.png
ORGANIZER;CN="Arab Public Library":MAILTO:Library@arabcity.org
END:VEVENT
END:VCALENDAR