BEGIN:VCALENDAR
VERSION:2.0
PRODID:-//Arab Chamber of Commerce - ECPv6.15.20//NONSGML v1.0//EN
CALSCALE:GREGORIAN
METHOD:PUBLISH
X-ORIGINAL-URL:https://arab-chamber.org
X-WR-CALDESC:Events for Arab Chamber of Commerce
REFRESH-INTERVAL;VALUE=DURATION:PT1H
X-Robots-Tag:noindex
X-PUBLISHED-TTL:PT1H
BEGIN:VTIMEZONE
TZID:America/Chicago
BEGIN:DAYLIGHT
TZOFFSETFROM:-0600
TZOFFSETTO:-0500
TZNAME:CDT
DTSTART:20250309T080000
END:DAYLIGHT
BEGIN:STANDARD
TZOFFSETFROM:-0500
TZOFFSETTO:-0600
TZNAME:CST
DTSTART:20251102T070000
END:STANDARD
BEGIN:DAYLIGHT
TZOFFSETFROM:-0600
TZOFFSETTO:-0500
TZNAME:CDT
DTSTART:20260308T080000
END:DAYLIGHT
BEGIN:STANDARD
TZOFFSETFROM:-0500
TZOFFSETTO:-0600
TZNAME:CST
DTSTART:20261101T070000
END:STANDARD
BEGIN:DAYLIGHT
TZOFFSETFROM:-0600
TZOFFSETTO:-0500
TZNAME:CDT
DTSTART:20270314T080000
END:DAYLIGHT
BEGIN:STANDARD
TZOFFSETFROM:-0500
TZOFFSETTO:-0600
TZNAME:CST
DTSTART:20271107T070000
END:STANDARD
END:VTIMEZONE
BEGIN:VEVENT
DTSTART;TZID=America/Chicago:20260421T070000
DTEND;TZID=America/Chicago:20260421T150000
DTSTAMP:20260421T032917
CREATED:20260121T181854Z
LAST-MODIFIED:20260121T181854Z
UID:10002087-1776754800-1776783600@arab-chamber.org
SUMMARY:Arab Farmers Market
DESCRIPTION:Come shop from local Farmers and Vendors at the Arab Farmers Market. The market will be open daily from 7 a.m. – 3 p.m. Vendor availability will be based on growing season and weather. Visit the Arab Farmers Market Facebook page for the latest updates.
URL:https://arab-chamber.org/event/arab-farmers-market-16/2026-04-21/
LOCATION:Arab Farmers Market\, 307 North Main Street\, Arab\, AL\, 35016\, United States
CATEGORIES:Community Events,FREE Events
ATTACH;FMTTYPE=image/png:https://arab-chamber.org/wp-content/uploads/2024/11/Farmersmarket.png
ORGANIZER;CN="Arab Farmers Market":MAILTO:bhorton@arabcity.org
END:VEVENT
BEGIN:VEVENT
DTSTART;TZID=America/Chicago:20260421T143000
DTEND;TZID=America/Chicago:20260421T163000
DTSTAMP:20260421T032917
CREATED:20260331T194850Z
LAST-MODIFIED:20260331T194850Z
UID:10002655-1776781800-1776789000@arab-chamber.org
SUMMARY:Junk Journaling for Adults
DESCRIPTION:Do you enjoy junk journaling? Have you wanted to learn what it’s all about? Join the Arab Public Library on the 1st Tuesday of every month from 2:30pm – 4:30pm for this free class for ages 18 or older. If you have your own materials\, you are welcome to bring them; however\, they will provide materials as well.
URL:https://arab-chamber.org/event/junk-journaling-for-adults/2026-04-21/
LOCATION:Arab Public Library\, 325 2nd St NW\, Arab\, AL\, 35016\, United States
CATEGORIES:Community Events,FREE Events
ATTACH;FMTTYPE=image/png:https://arab-chamber.org/wp-content/uploads/2026/03/Website-4.png
ORGANIZER;CN="Arab Public Library":MAILTO:Library@arabcity.org
END:VEVENT
END:VCALENDAR