BEGIN:VCALENDAR
VERSION:2.0
PRODID:-//Arab Chamber of Commerce - ECPv6.15.20//NONSGML v1.0//EN
CALSCALE:GREGORIAN
METHOD:PUBLISH
X-ORIGINAL-URL:https://arab-chamber.org
X-WR-CALDESC:Events for Arab Chamber of Commerce
REFRESH-INTERVAL;VALUE=DURATION:PT1H
X-Robots-Tag:noindex
X-PUBLISHED-TTL:PT1H
BEGIN:VTIMEZONE
TZID:America/Chicago
BEGIN:DAYLIGHT
TZOFFSETFROM:-0600
TZOFFSETTO:-0500
TZNAME:CDT
DTSTART:20250309T080000
END:DAYLIGHT
BEGIN:STANDARD
TZOFFSETFROM:-0500
TZOFFSETTO:-0600
TZNAME:CST
DTSTART:20251102T070000
END:STANDARD
BEGIN:DAYLIGHT
TZOFFSETFROM:-0600
TZOFFSETTO:-0500
TZNAME:CDT
DTSTART:20260308T080000
END:DAYLIGHT
BEGIN:STANDARD
TZOFFSETFROM:-0500
TZOFFSETTO:-0600
TZNAME:CST
DTSTART:20261101T070000
END:STANDARD
BEGIN:DAYLIGHT
TZOFFSETFROM:-0600
TZOFFSETTO:-0500
TZNAME:CDT
DTSTART:20270314T080000
END:DAYLIGHT
BEGIN:STANDARD
TZOFFSETFROM:-0500
TZOFFSETTO:-0600
TZNAME:CST
DTSTART:20271107T070000
END:STANDARD
END:VTIMEZONE
BEGIN:VEVENT
DTSTART;TZID=America/Chicago:20260326T173000
DTEND;TZID=America/Chicago:20260326T200000
DTSTAMP:20260424T083519
CREATED:20260210T154020Z
LAST-MODIFIED:20260210T173449Z
UID:10002581-1774546200-1774555200@arab-chamber.org
SUMMARY:Starlight Soiree - a celebration of local stars
DESCRIPTION:Join the Arab Chamber of Commerce and Citizens Bank & Trust for our Starlight Soiree – a celebration of our local stars of the season. The event will take place at The Old Greenhouse on March 26. The event will begin with a Community Social sponsored by Frogg Toggs at 5:30 p.m. with our award reception to follow. Tickets and tables can be reserved here.\n\nWe’ll be recognizing standout individuals\, businesses\, and organizations that help make Arab a special place to live and work. Nominations for each of the awards can be submitted at the link below. Nominations must be submitted by Friday\, March 6 to be considered.\n\nCommunity Impact Award: https://forms.gle/gLyyD4n4F8oGHeX6A\nBusiness of the Year:https://forms.gle/hrLCwZbiH4P5rGEL7\nCitizen of the Year:https://forms.gle/SpKHLrZWqNf7bh3X6
URL:https://arab-chamber.org/event/starlight-soiree-a-celebration-of-local-stars/
LOCATION:The Old Greenhouse\, 909 North Main Street\, Arab\, AL\, 35016\, United States
CATEGORIES:Chamber Events,Community Events,Networking Events
ATTACH;FMTTYPE=image/jpeg:https://arab-chamber.org/wp-content/uploads/2026/02/Website-36.jpg
ORGANIZER;CN="Arab Chamber of Commerce":MAILTO:info@arab-chamber.org
END:VEVENT
END:VCALENDAR