BEGIN:VCALENDAR
VERSION:2.0
PRODID:-//Arab Chamber of Commerce - ECPv6.15.15//NONSGML v1.0//EN
CALSCALE:GREGORIAN
METHOD:PUBLISH
X-WR-CALNAME:Arab Chamber of Commerce
X-ORIGINAL-URL:https://arab-chamber.org
X-WR-CALDESC:Events for Arab Chamber of Commerce
REFRESH-INTERVAL;VALUE=DURATION:PT1H
X-Robots-Tag:noindex
X-PUBLISHED-TTL:PT1H
BEGIN:VTIMEZONE
TZID:America/Chicago
BEGIN:DAYLIGHT
TZOFFSETFROM:-0600
TZOFFSETTO:-0500
TZNAME:CDT
DTSTART:20250309T080000
END:DAYLIGHT
BEGIN:STANDARD
TZOFFSETFROM:-0500
TZOFFSETTO:-0600
TZNAME:CST
DTSTART:20251102T070000
END:STANDARD
BEGIN:DAYLIGHT
TZOFFSETFROM:-0600
TZOFFSETTO:-0500
TZNAME:CDT
DTSTART:20260308T080000
END:DAYLIGHT
BEGIN:STANDARD
TZOFFSETFROM:-0500
TZOFFSETTO:-0600
TZNAME:CST
DTSTART:20261101T070000
END:STANDARD
BEGIN:DAYLIGHT
TZOFFSETFROM:-0600
TZOFFSETTO:-0500
TZNAME:CDT
DTSTART:20270314T080000
END:DAYLIGHT
BEGIN:STANDARD
TZOFFSETFROM:-0500
TZOFFSETTO:-0600
TZNAME:CST
DTSTART:20271107T070000
END:STANDARD
END:VTIMEZONE
BEGIN:VEVENT
DTSTART;TZID=America/Chicago:20260310T100000
DTEND;TZID=America/Chicago:20260310T120000
DTSTAMP:20260211T060933
CREATED:20250716T155105Z
LAST-MODIFIED:20250716T155105Z
UID:10001496-1773136800-1773144000@arab-chamber.org
SUMMARY:Stitches in the Stacks Crochet Club
DESCRIPTION:Join the Arab Public Library every Tuesday from 10:00 AM to 12:00 PM for the Stitches in the Stacks Crochet Club\, open to ages 18 and older. Whether you’re a beginner or experienced\, all are welcome—lessons will be provided if needed.
URL:https://arab-chamber.org/event/stitches-in-the-stacks-crochet-club-3/2026-03-10/
LOCATION:Arab Public Library\, 325 2nd St NW\, Arab\, AL\, 35016\, United States
CATEGORIES:FREE Events
ATTACH;FMTTYPE=image/png:https://arab-chamber.org/wp-content/uploads/2025/07/PicnicinthePark-2.png
ORGANIZER;CN="Arab Public Library":MAILTO:Library@arabcity.org
END:VEVENT
BEGIN:VEVENT
DTSTART;TZID=America/Chicago:20260310T150000
DTEND;TZID=America/Chicago:20260310T170000
DTSTAMP:20260211T060933
CREATED:20250923T174241Z
LAST-MODIFIED:20250923T174241Z
UID:10001698-1773154800-1773162000@arab-chamber.org
SUMMARY:Legos At The Library Lego Club
DESCRIPTION:Join The Arab Public Library 2nd and 4th Tuesday of every month for Lego club! We provide the Legos\, all you need to bring is your imagination. This activity is for all ages and skill levels!
URL:https://arab-chamber.org/event/legos-at-the-library-lego-club-4/2026-03-10/
LOCATION:Arab Public Library\, 325 2nd St NW\, Arab\, AL\, 35016\, United States
CATEGORIES:Community Events,FREE Events
ATTACH;FMTTYPE=image/jpeg:https://arab-chamber.org/wp-content/uploads/2025/09/SoupScoops-1.jpg
ORGANIZER;CN="Arab Public Library":MAILTO:Library@arabcity.org
END:VEVENT
BEGIN:VEVENT
DTSTART;TZID=America/Chicago:20260311T130000
DTEND;TZID=America/Chicago:20260311T140000
DTSTAMP:20260211T060933
CREATED:20260130T173227Z
LAST-MODIFIED:20260130T173227Z
UID:10002319-1773234000-1773237600@arab-chamber.org
SUMMARY:Arab Parks & Recreation Homeschool Program
DESCRIPTION:Arab Park & Recreation is excited to announce that this year’s Homeschool PE Program will begin on Wednesday\, October 1 at 1:00 PM. This year\, they have partnered with Tiny Tina’s Boot Camp\, Arab Homeschool Co-Op\, and Triple C Academy to offer a varied curriculum with multiple age divisions. We invite families to join us for a fun\, active\, and engaging program every Wednesday!
URL:https://arab-chamber.org/event/arab-parks-recreation-homeschool-program/2026-03-11/
LOCATION:Arab Recreation Center\, 761 North Main Street\, Arab\, AL\, 35016\, United States
CATEGORIES:FREE Events
ATTACH;FMTTYPE=image/png:https://arab-chamber.org/wp-content/uploads/2026/01/Website-28.png
ORGANIZER;CN="Arab Parks & Recreation":MAILTO:parkrec@arabcity.org
END:VEVENT
BEGIN:VEVENT
DTSTART;TZID=America/Chicago:20260317T100000
DTEND;TZID=America/Chicago:20260317T120000
DTSTAMP:20260211T060933
CREATED:20250716T155105Z
LAST-MODIFIED:20250716T155105Z
UID:10001497-1773741600-1773748800@arab-chamber.org
SUMMARY:Stitches in the Stacks Crochet Club
DESCRIPTION:Join the Arab Public Library every Tuesday from 10:00 AM to 12:00 PM for the Stitches in the Stacks Crochet Club\, open to ages 18 and older. Whether you’re a beginner or experienced\, all are welcome—lessons will be provided if needed.
URL:https://arab-chamber.org/event/stitches-in-the-stacks-crochet-club-3/2026-03-17/
LOCATION:Arab Public Library\, 325 2nd St NW\, Arab\, AL\, 35016\, United States
CATEGORIES:FREE Events
ATTACH;FMTTYPE=image/png:https://arab-chamber.org/wp-content/uploads/2025/07/PicnicinthePark-2.png
ORGANIZER;CN="Arab Public Library":MAILTO:Library@arabcity.org
END:VEVENT
BEGIN:VEVENT
DTSTART;TZID=America/Chicago:20260317T160000
DTEND;TZID=America/Chicago:20260317T180000
DTSTAMP:20260211T060933
CREATED:20250106T214236Z
LAST-MODIFIED:20250106T214236Z
UID:10000858-1773763200-1773770400@arab-chamber.org
SUMMARY:3rd Tuesday for Teens!
DESCRIPTION:Arab Library is excited to announce a fun new program for Teens! It’s called 3rd Tuesday for Teens! There will be fun activities and snacks for teenagers ages 12-18. It will be held on the third Tuesday of every month\, and the first one will be on January 21st in the Special Collections Room at 4pm. You can sign up by scanning the QR code or go to https://forms.gle/L2ocS3ctXyBb34Pv9
URL:https://arab-chamber.org/event/3rd-tuesday-for-teens/2026-03-17/
LOCATION:Arab Public Library\, 325 2nd St NW\, Arab\, AL\, 35016\, United States
CATEGORIES:FREE Events
ATTACH;FMTTYPE=image/jpeg:https://arab-chamber.org/wp-content/uploads/2025/01/3rd-Tuesday-for-Teens.jpg
ORGANIZER;CN="Arab Public Library":MAILTO:Library@arabcity.org
END:VEVENT
BEGIN:VEVENT
DTSTART;TZID=America/Chicago:20260318T130000
DTEND;TZID=America/Chicago:20260318T140000
DTSTAMP:20260211T060933
CREATED:20260130T173227Z
LAST-MODIFIED:20260130T173227Z
UID:10002320-1773838800-1773842400@arab-chamber.org
SUMMARY:Arab Parks & Recreation Homeschool Program
DESCRIPTION:Arab Park & Recreation is excited to announce that this year’s Homeschool PE Program will begin on Wednesday\, October 1 at 1:00 PM. This year\, they have partnered with Tiny Tina’s Boot Camp\, Arab Homeschool Co-Op\, and Triple C Academy to offer a varied curriculum with multiple age divisions. We invite families to join us for a fun\, active\, and engaging program every Wednesday!
URL:https://arab-chamber.org/event/arab-parks-recreation-homeschool-program/2026-03-18/
LOCATION:Arab Recreation Center\, 761 North Main Street\, Arab\, AL\, 35016\, United States
CATEGORIES:FREE Events
ATTACH;FMTTYPE=image/png:https://arab-chamber.org/wp-content/uploads/2026/01/Website-28.png
ORGANIZER;CN="Arab Parks & Recreation":MAILTO:parkrec@arabcity.org
END:VEVENT
BEGIN:VEVENT
DTSTART;TZID=America/Chicago:20260324T100000
DTEND;TZID=America/Chicago:20260324T120000
DTSTAMP:20260211T060933
CREATED:20250716T155105Z
LAST-MODIFIED:20250716T155105Z
UID:10001498-1774346400-1774353600@arab-chamber.org
SUMMARY:Stitches in the Stacks Crochet Club
DESCRIPTION:Join the Arab Public Library every Tuesday from 10:00 AM to 12:00 PM for the Stitches in the Stacks Crochet Club\, open to ages 18 and older. Whether you’re a beginner or experienced\, all are welcome—lessons will be provided if needed.
URL:https://arab-chamber.org/event/stitches-in-the-stacks-crochet-club-3/2026-03-24/
LOCATION:Arab Public Library\, 325 2nd St NW\, Arab\, AL\, 35016\, United States
CATEGORIES:FREE Events
ATTACH;FMTTYPE=image/png:https://arab-chamber.org/wp-content/uploads/2025/07/PicnicinthePark-2.png
ORGANIZER;CN="Arab Public Library":MAILTO:Library@arabcity.org
END:VEVENT
BEGIN:VEVENT
DTSTART;TZID=America/Chicago:20260324T150000
DTEND;TZID=America/Chicago:20260324T170000
DTSTAMP:20260211T060933
CREATED:20250923T173523Z
LAST-MODIFIED:20250923T173523Z
UID:10001638-1774364400-1774371600@arab-chamber.org
SUMMARY:Legos At The Library Lego Club
DESCRIPTION:Join The Arab Public Library 2nd and 4th Tuesday of every month for Lego club! We provide the Legos\, all you need to bring is your imagination. This activity is for all ages and skill levels!
URL:https://arab-chamber.org/event/legos-at-the-library-lego-club-3/2026-03-24/
LOCATION:Arab Public Library\, 325 2nd St NW\, Arab\, AL\, 35016\, United States
CATEGORIES:Community Events,FREE Events
ATTACH;FMTTYPE=image/jpeg:https://arab-chamber.org/wp-content/uploads/2025/09/SoupScoops-1.jpg
ORGANIZER;CN="Arab Public Library":MAILTO:Library@arabcity.org
END:VEVENT
BEGIN:VEVENT
DTSTART;TZID=America/Chicago:20260325T130000
DTEND;TZID=America/Chicago:20260325T140000
DTSTAMP:20260211T060933
CREATED:20260130T173227Z
LAST-MODIFIED:20260130T173227Z
UID:10002321-1774443600-1774447200@arab-chamber.org
SUMMARY:Arab Parks & Recreation Homeschool Program
DESCRIPTION:Arab Park & Recreation is excited to announce that this year’s Homeschool PE Program will begin on Wednesday\, October 1 at 1:00 PM. This year\, they have partnered with Tiny Tina’s Boot Camp\, Arab Homeschool Co-Op\, and Triple C Academy to offer a varied curriculum with multiple age divisions. We invite families to join us for a fun\, active\, and engaging program every Wednesday!
URL:https://arab-chamber.org/event/arab-parks-recreation-homeschool-program/2026-03-25/
LOCATION:Arab Recreation Center\, 761 North Main Street\, Arab\, AL\, 35016\, United States
CATEGORIES:FREE Events
ATTACH;FMTTYPE=image/png:https://arab-chamber.org/wp-content/uploads/2026/01/Website-28.png
ORGANIZER;CN="Arab Parks & Recreation":MAILTO:parkrec@arabcity.org
END:VEVENT
BEGIN:VEVENT
DTSTART;TZID=America/Chicago:20260326T173000
DTEND;TZID=America/Chicago:20260326T200000
DTSTAMP:20260211T060933
CREATED:20260210T154020Z
LAST-MODIFIED:20260210T173449Z
UID:10002581-1774546200-1774555200@arab-chamber.org
SUMMARY:Starlight Soiree - a celebration of local stars
DESCRIPTION:Join the Arab Chamber of Commerce and Citizens Bank & Trust for our Starlight Soiree – a celebration of our local stars of the season. The event will take place at The Old Greenhouse on March 26. The event will begin with a Community Social sponsored by Frogg Toggs at 5:30 p.m. with our award reception to follow. Tickets and tables can be reserved here.\n\nWe’ll be recognizing standout individuals\, businesses\, and organizations that help make Arab a special place to live and work. Nominations for each of the awards can be submitted at the link below. Nominations must be submitted by Friday\, March 6 to be considered.\n\nCommunity Impact Award: https://forms.gle/gLyyD4n4F8oGHeX6A\nBusiness of the Year:https://forms.gle/hrLCwZbiH4P5rGEL7\nCitizen of the Year:https://forms.gle/SpKHLrZWqNf7bh3X6
URL:https://arab-chamber.org/event/starlight-soiree-a-celebration-of-local-stars/
LOCATION:The Old Greenhouse\, 909 North Main Street\, Arab\, AL\, 35016\, United States
CATEGORIES:Chamber Events,Community Events,Networking Events
ATTACH;FMTTYPE=image/jpeg:https://arab-chamber.org/wp-content/uploads/2026/02/Website-36.jpg
ORGANIZER;CN="Arab Chamber of Commerce":MAILTO:info@arab-chamber.org
END:VEVENT
BEGIN:VEVENT
DTSTART;TZID=America/Chicago:20260328T100000
DTEND;TZID=America/Chicago:20260328T150000
DTSTAMP:20260211T060933
CREATED:20260121T180704Z
LAST-MODIFIED:20260121T180704Z
UID:10001816-1774692000-1774710000@arab-chamber.org
SUMMARY:Arab Farmers Market Opening Weekend
DESCRIPTION:Arab Farmers Market can’t wait to welcome our amazing community back! Shop with their seasonal market vendors\, browse local craft vendors\, and enjoy food truck favorites. Kids can take part in a seed-starting activity\, and the Arab Library will be on-site with their seed library. LifeSouth will also be on site hosting a blood drive. Come celebrate the start of market season!
URL:https://arab-chamber.org/event/arab-farmers-market-opening-weekend-3/
LOCATION:Arab Farmers Market\, 307 North Main Street\, Arab\, AL\, 35016\, United States
CATEGORIES:Community Events,FREE Events
ATTACH;FMTTYPE=image/jpeg:https://arab-chamber.org/wp-content/uploads/2026/01/Website-34.jpg
ORGANIZER;CN="Arab Farmers Market":MAILTO:bhorton@arabcity.org
END:VEVENT
BEGIN:VEVENT
DTSTART;TZID=America/Chicago:20260328T180000
DTEND;TZID=America/Chicago:20260328T210000
DTSTAMP:20260211T060933
CREATED:20260210T204532Z
LAST-MODIFIED:20260210T205134Z
UID:10002584-1774720800-1774731600@arab-chamber.org
SUMMARY:Glow Ball Golf Tournament
DESCRIPTION:Join the Arab Education Foundation for a Glow Ball Golf Tournament to benefit Arab City Schools. All proceeds will support their Teacher Grant Program\, which provides resources for teachers’ classroom materials and educational tools. This is a 4 man scramble\, at $100 per player. Registration and dinner begin at 6\, and shotgun start is at 7. Register by calling 256-558-8346.
URL:https://arab-chamber.org/event/glow-ball-golf-tournament/
LOCATION:Twin Lakes Golf Course\, 211 Golfview Dr NE\, Arab\,\, AL\, 35016\, United States
CATEGORIES:Community Events
ATTACH;FMTTYPE=image/png:https://arab-chamber.org/wp-content/uploads/2026/02/Website-3.png
END:VEVENT
BEGIN:VEVENT
DTSTART;TZID=America/Chicago:20260329T070000
DTEND;TZID=America/Chicago:20260329T150000
DTSTAMP:20260211T060933
CREATED:20260121T181854Z
LAST-MODIFIED:20260121T181854Z
UID:10002064-1774767600-1774796400@arab-chamber.org
SUMMARY:Arab Farmers Market
DESCRIPTION:Come shop from local Farmers and Vendors at the Arab Farmers Market. The market will be open daily from 7 a.m. – 3 p.m. Vendor availability will be based on growing season and weather. Visit the Arab Farmers Market Facebook page for the latest updates.
URL:https://arab-chamber.org/event/arab-farmers-market-16/2026-03-29/
LOCATION:Arab Farmers Market\, 307 North Main Street\, Arab\, AL\, 35016\, United States
CATEGORIES:Community Events,FREE Events
ATTACH;FMTTYPE=image/png:https://arab-chamber.org/wp-content/uploads/2024/11/Farmersmarket.png
ORGANIZER;CN="Arab Farmers Market":MAILTO:bhorton@arabcity.org
END:VEVENT
BEGIN:VEVENT
DTSTART;TZID=America/Chicago:20260330T070000
DTEND;TZID=America/Chicago:20260330T150000
DTSTAMP:20260211T060933
CREATED:20260121T181854Z
LAST-MODIFIED:20260121T181854Z
UID:10002065-1774854000-1774882800@arab-chamber.org
SUMMARY:Arab Farmers Market
DESCRIPTION:Come shop from local Farmers and Vendors at the Arab Farmers Market. The market will be open daily from 7 a.m. – 3 p.m. Vendor availability will be based on growing season and weather. Visit the Arab Farmers Market Facebook page for the latest updates.
URL:https://arab-chamber.org/event/arab-farmers-market-16/2026-03-30/
LOCATION:Arab Farmers Market\, 307 North Main Street\, Arab\, AL\, 35016\, United States
CATEGORIES:Community Events,FREE Events
ATTACH;FMTTYPE=image/png:https://arab-chamber.org/wp-content/uploads/2024/11/Farmersmarket.png
ORGANIZER;CN="Arab Farmers Market":MAILTO:bhorton@arabcity.org
END:VEVENT
BEGIN:VEVENT
DTSTART;TZID=America/Chicago:20260331T070000
DTEND;TZID=America/Chicago:20260331T150000
DTSTAMP:20260211T060933
CREATED:20260121T181854Z
LAST-MODIFIED:20260121T181854Z
UID:10002066-1774940400-1774969200@arab-chamber.org
SUMMARY:Arab Farmers Market
DESCRIPTION:Come shop from local Farmers and Vendors at the Arab Farmers Market. The market will be open daily from 7 a.m. – 3 p.m. Vendor availability will be based on growing season and weather. Visit the Arab Farmers Market Facebook page for the latest updates.
URL:https://arab-chamber.org/event/arab-farmers-market-16/2026-03-31/
LOCATION:Arab Farmers Market\, 307 North Main Street\, Arab\, AL\, 35016\, United States
CATEGORIES:Community Events,FREE Events
ATTACH;FMTTYPE=image/png:https://arab-chamber.org/wp-content/uploads/2024/11/Farmersmarket.png
ORGANIZER;CN="Arab Farmers Market":MAILTO:bhorton@arabcity.org
END:VEVENT
BEGIN:VEVENT
DTSTART;TZID=America/Chicago:20260331T100000
DTEND;TZID=America/Chicago:20260331T120000
DTSTAMP:20260211T060933
CREATED:20250716T155105Z
LAST-MODIFIED:20250716T155105Z
UID:10001499-1774951200-1774958400@arab-chamber.org
SUMMARY:Stitches in the Stacks Crochet Club
DESCRIPTION:Join the Arab Public Library every Tuesday from 10:00 AM to 12:00 PM for the Stitches in the Stacks Crochet Club\, open to ages 18 and older. Whether you’re a beginner or experienced\, all are welcome—lessons will be provided if needed.
URL:https://arab-chamber.org/event/stitches-in-the-stacks-crochet-club-3/2026-03-31/
LOCATION:Arab Public Library\, 325 2nd St NW\, Arab\, AL\, 35016\, United States
CATEGORIES:FREE Events
ATTACH;FMTTYPE=image/png:https://arab-chamber.org/wp-content/uploads/2025/07/PicnicinthePark-2.png
ORGANIZER;CN="Arab Public Library":MAILTO:Library@arabcity.org
END:VEVENT
BEGIN:VEVENT
DTSTART;TZID=America/Chicago:20260401T070000
DTEND;TZID=America/Chicago:20260401T150000
DTSTAMP:20260211T060933
CREATED:20260121T181854Z
LAST-MODIFIED:20260121T181854Z
UID:10002067-1775026800-1775055600@arab-chamber.org
SUMMARY:Arab Farmers Market
DESCRIPTION:Come shop from local Farmers and Vendors at the Arab Farmers Market. The market will be open daily from 7 a.m. – 3 p.m. Vendor availability will be based on growing season and weather. Visit the Arab Farmers Market Facebook page for the latest updates.
URL:https://arab-chamber.org/event/arab-farmers-market-16/2026-04-01/
LOCATION:Arab Farmers Market\, 307 North Main Street\, Arab\, AL\, 35016\, United States
CATEGORIES:Community Events,FREE Events
ATTACH;FMTTYPE=image/png:https://arab-chamber.org/wp-content/uploads/2024/11/Farmersmarket.png
ORGANIZER;CN="Arab Farmers Market":MAILTO:bhorton@arabcity.org
END:VEVENT
BEGIN:VEVENT
DTSTART;TZID=America/Chicago:20260401T130000
DTEND;TZID=America/Chicago:20260401T140000
DTSTAMP:20260211T060933
CREATED:20260130T173227Z
LAST-MODIFIED:20260130T173227Z
UID:10002322-1775048400-1775052000@arab-chamber.org
SUMMARY:Arab Parks & Recreation Homeschool Program
DESCRIPTION:Arab Park & Recreation is excited to announce that this year’s Homeschool PE Program will begin on Wednesday\, October 1 at 1:00 PM. This year\, they have partnered with Tiny Tina’s Boot Camp\, Arab Homeschool Co-Op\, and Triple C Academy to offer a varied curriculum with multiple age divisions. We invite families to join us for a fun\, active\, and engaging program every Wednesday!
URL:https://arab-chamber.org/event/arab-parks-recreation-homeschool-program/2026-04-01/
LOCATION:Arab Recreation Center\, 761 North Main Street\, Arab\, AL\, 35016\, United States
CATEGORIES:FREE Events
ATTACH;FMTTYPE=image/png:https://arab-chamber.org/wp-content/uploads/2026/01/Website-28.png
ORGANIZER;CN="Arab Parks & Recreation":MAILTO:parkrec@arabcity.org
END:VEVENT
BEGIN:VEVENT
DTSTART;TZID=America/Chicago:20260402T070000
DTEND;TZID=America/Chicago:20260402T150000
DTSTAMP:20260211T060933
CREATED:20260121T181854Z
LAST-MODIFIED:20260121T181854Z
UID:10002068-1775113200-1775142000@arab-chamber.org
SUMMARY:Arab Farmers Market
DESCRIPTION:Come shop from local Farmers and Vendors at the Arab Farmers Market. The market will be open daily from 7 a.m. – 3 p.m. Vendor availability will be based on growing season and weather. Visit the Arab Farmers Market Facebook page for the latest updates.
URL:https://arab-chamber.org/event/arab-farmers-market-16/2026-04-02/
LOCATION:Arab Farmers Market\, 307 North Main Street\, Arab\, AL\, 35016\, United States
CATEGORIES:Community Events,FREE Events
ATTACH;FMTTYPE=image/png:https://arab-chamber.org/wp-content/uploads/2024/11/Farmersmarket.png
ORGANIZER;CN="Arab Farmers Market":MAILTO:bhorton@arabcity.org
END:VEVENT
BEGIN:VEVENT
DTSTART;TZID=America/Chicago:20260403T070000
DTEND;TZID=America/Chicago:20260403T150000
DTSTAMP:20260211T060933
CREATED:20260121T181854Z
LAST-MODIFIED:20260121T181854Z
UID:10002069-1775199600-1775228400@arab-chamber.org
SUMMARY:Arab Farmers Market
DESCRIPTION:Come shop from local Farmers and Vendors at the Arab Farmers Market. The market will be open daily from 7 a.m. – 3 p.m. Vendor availability will be based on growing season and weather. Visit the Arab Farmers Market Facebook page for the latest updates.
URL:https://arab-chamber.org/event/arab-farmers-market-16/2026-04-03/
LOCATION:Arab Farmers Market\, 307 North Main Street\, Arab\, AL\, 35016\, United States
CATEGORIES:Community Events,FREE Events
ATTACH;FMTTYPE=image/png:https://arab-chamber.org/wp-content/uploads/2024/11/Farmersmarket.png
ORGANIZER;CN="Arab Farmers Market":MAILTO:bhorton@arabcity.org
END:VEVENT
BEGIN:VEVENT
DTSTART;TZID=America/Chicago:20260404T070000
DTEND;TZID=America/Chicago:20260404T150000
DTSTAMP:20260211T060933
CREATED:20260121T181854Z
LAST-MODIFIED:20260121T181854Z
UID:10002070-1775286000-1775314800@arab-chamber.org
SUMMARY:Arab Farmers Market
DESCRIPTION:Come shop from local Farmers and Vendors at the Arab Farmers Market. The market will be open daily from 7 a.m. – 3 p.m. Vendor availability will be based on growing season and weather. Visit the Arab Farmers Market Facebook page for the latest updates.
URL:https://arab-chamber.org/event/arab-farmers-market-16/2026-04-04/
LOCATION:Arab Farmers Market\, 307 North Main Street\, Arab\, AL\, 35016\, United States
CATEGORIES:Community Events,FREE Events
ATTACH;FMTTYPE=image/png:https://arab-chamber.org/wp-content/uploads/2024/11/Farmersmarket.png
ORGANIZER;CN="Arab Farmers Market":MAILTO:bhorton@arabcity.org
END:VEVENT
BEGIN:VEVENT
DTSTART;TZID=America/Chicago:20260405T070000
DTEND;TZID=America/Chicago:20260405T150000
DTSTAMP:20260211T060933
CREATED:20260121T181854Z
LAST-MODIFIED:20260121T181854Z
UID:10002071-1775372400-1775401200@arab-chamber.org
SUMMARY:Arab Farmers Market
DESCRIPTION:Come shop from local Farmers and Vendors at the Arab Farmers Market. The market will be open daily from 7 a.m. – 3 p.m. Vendor availability will be based on growing season and weather. Visit the Arab Farmers Market Facebook page for the latest updates.
URL:https://arab-chamber.org/event/arab-farmers-market-16/2026-04-05/
LOCATION:Arab Farmers Market\, 307 North Main Street\, Arab\, AL\, 35016\, United States
CATEGORIES:Community Events,FREE Events
ATTACH;FMTTYPE=image/png:https://arab-chamber.org/wp-content/uploads/2024/11/Farmersmarket.png
ORGANIZER;CN="Arab Farmers Market":MAILTO:bhorton@arabcity.org
END:VEVENT
BEGIN:VEVENT
DTSTART;TZID=America/Chicago:20260406T070000
DTEND;TZID=America/Chicago:20260406T150000
DTSTAMP:20260211T060933
CREATED:20260121T181854Z
LAST-MODIFIED:20260121T181854Z
UID:10002072-1775458800-1775487600@arab-chamber.org
SUMMARY:Arab Farmers Market
DESCRIPTION:Come shop from local Farmers and Vendors at the Arab Farmers Market. The market will be open daily from 7 a.m. – 3 p.m. Vendor availability will be based on growing season and weather. Visit the Arab Farmers Market Facebook page for the latest updates.
URL:https://arab-chamber.org/event/arab-farmers-market-16/2026-04-06/
LOCATION:Arab Farmers Market\, 307 North Main Street\, Arab\, AL\, 35016\, United States
CATEGORIES:Community Events,FREE Events
ATTACH;FMTTYPE=image/png:https://arab-chamber.org/wp-content/uploads/2024/11/Farmersmarket.png
ORGANIZER;CN="Arab Farmers Market":MAILTO:bhorton@arabcity.org
END:VEVENT
BEGIN:VEVENT
DTSTART;TZID=America/Chicago:20260407T070000
DTEND;TZID=America/Chicago:20260407T150000
DTSTAMP:20260211T060933
CREATED:20260121T181854Z
LAST-MODIFIED:20260121T181854Z
UID:10002073-1775545200-1775574000@arab-chamber.org
SUMMARY:Arab Farmers Market
DESCRIPTION:Come shop from local Farmers and Vendors at the Arab Farmers Market. The market will be open daily from 7 a.m. – 3 p.m. Vendor availability will be based on growing season and weather. Visit the Arab Farmers Market Facebook page for the latest updates.
URL:https://arab-chamber.org/event/arab-farmers-market-16/2026-04-07/
LOCATION:Arab Farmers Market\, 307 North Main Street\, Arab\, AL\, 35016\, United States
CATEGORIES:Community Events,FREE Events
ATTACH;FMTTYPE=image/png:https://arab-chamber.org/wp-content/uploads/2024/11/Farmersmarket.png
ORGANIZER;CN="Arab Farmers Market":MAILTO:bhorton@arabcity.org
END:VEVENT
BEGIN:VEVENT
DTSTART;TZID=America/Chicago:20260407T100000
DTEND;TZID=America/Chicago:20260407T120000
DTSTAMP:20260211T060933
CREATED:20250716T155105Z
LAST-MODIFIED:20250716T155105Z
UID:10001500-1775556000-1775563200@arab-chamber.org
SUMMARY:Stitches in the Stacks Crochet Club
DESCRIPTION:Join the Arab Public Library every Tuesday from 10:00 AM to 12:00 PM for the Stitches in the Stacks Crochet Club\, open to ages 18 and older. Whether you’re a beginner or experienced\, all are welcome—lessons will be provided if needed.
URL:https://arab-chamber.org/event/stitches-in-the-stacks-crochet-club-3/2026-04-07/
LOCATION:Arab Public Library\, 325 2nd St NW\, Arab\, AL\, 35016\, United States
CATEGORIES:FREE Events
ATTACH;FMTTYPE=image/png:https://arab-chamber.org/wp-content/uploads/2025/07/PicnicinthePark-2.png
ORGANIZER;CN="Arab Public Library":MAILTO:Library@arabcity.org
END:VEVENT
BEGIN:VEVENT
DTSTART;TZID=America/Chicago:20260408T070000
DTEND;TZID=America/Chicago:20260408T150000
DTSTAMP:20260211T060933
CREATED:20260121T181854Z
LAST-MODIFIED:20260121T181854Z
UID:10002074-1775631600-1775660400@arab-chamber.org
SUMMARY:Arab Farmers Market
DESCRIPTION:Come shop from local Farmers and Vendors at the Arab Farmers Market. The market will be open daily from 7 a.m. – 3 p.m. Vendor availability will be based on growing season and weather. Visit the Arab Farmers Market Facebook page for the latest updates.
URL:https://arab-chamber.org/event/arab-farmers-market-16/2026-04-08/
LOCATION:Arab Farmers Market\, 307 North Main Street\, Arab\, AL\, 35016\, United States
CATEGORIES:Community Events,FREE Events
ATTACH;FMTTYPE=image/png:https://arab-chamber.org/wp-content/uploads/2024/11/Farmersmarket.png
ORGANIZER;CN="Arab Farmers Market":MAILTO:bhorton@arabcity.org
END:VEVENT
BEGIN:VEVENT
DTSTART;TZID=America/Chicago:20260408T130000
DTEND;TZID=America/Chicago:20260408T140000
DTSTAMP:20260211T060933
CREATED:20260130T173227Z
LAST-MODIFIED:20260130T173227Z
UID:10002323-1775653200-1775656800@arab-chamber.org
SUMMARY:Arab Parks & Recreation Homeschool Program
DESCRIPTION:Arab Park & Recreation is excited to announce that this year’s Homeschool PE Program will begin on Wednesday\, October 1 at 1:00 PM. This year\, they have partnered with Tiny Tina’s Boot Camp\, Arab Homeschool Co-Op\, and Triple C Academy to offer a varied curriculum with multiple age divisions. We invite families to join us for a fun\, active\, and engaging program every Wednesday!
URL:https://arab-chamber.org/event/arab-parks-recreation-homeschool-program/2026-04-08/
LOCATION:Arab Recreation Center\, 761 North Main Street\, Arab\, AL\, 35016\, United States
CATEGORIES:FREE Events
ATTACH;FMTTYPE=image/png:https://arab-chamber.org/wp-content/uploads/2026/01/Website-28.png
ORGANIZER;CN="Arab Parks & Recreation":MAILTO:parkrec@arabcity.org
END:VEVENT
BEGIN:VEVENT
DTSTART;TZID=America/Chicago:20260409T070000
DTEND;TZID=America/Chicago:20260409T150000
DTSTAMP:20260211T060933
CREATED:20260121T181854Z
LAST-MODIFIED:20260121T181854Z
UID:10002075-1775718000-1775746800@arab-chamber.org
SUMMARY:Arab Farmers Market
DESCRIPTION:Come shop from local Farmers and Vendors at the Arab Farmers Market. The market will be open daily from 7 a.m. – 3 p.m. Vendor availability will be based on growing season and weather. Visit the Arab Farmers Market Facebook page for the latest updates.
URL:https://arab-chamber.org/event/arab-farmers-market-16/2026-04-09/
LOCATION:Arab Farmers Market\, 307 North Main Street\, Arab\, AL\, 35016\, United States
CATEGORIES:Community Events,FREE Events
ATTACH;FMTTYPE=image/png:https://arab-chamber.org/wp-content/uploads/2024/11/Farmersmarket.png
ORGANIZER;CN="Arab Farmers Market":MAILTO:bhorton@arabcity.org
END:VEVENT
BEGIN:VEVENT
DTSTART;TZID=America/Chicago:20260410T070000
DTEND;TZID=America/Chicago:20260410T150000
DTSTAMP:20260211T060933
CREATED:20260121T181854Z
LAST-MODIFIED:20260121T181854Z
UID:10002076-1775804400-1775833200@arab-chamber.org
SUMMARY:Arab Farmers Market
DESCRIPTION:Come shop from local Farmers and Vendors at the Arab Farmers Market. The market will be open daily from 7 a.m. – 3 p.m. Vendor availability will be based on growing season and weather. Visit the Arab Farmers Market Facebook page for the latest updates.
URL:https://arab-chamber.org/event/arab-farmers-market-16/2026-04-10/
LOCATION:Arab Farmers Market\, 307 North Main Street\, Arab\, AL\, 35016\, United States
CATEGORIES:Community Events,FREE Events
ATTACH;FMTTYPE=image/png:https://arab-chamber.org/wp-content/uploads/2024/11/Farmersmarket.png
ORGANIZER;CN="Arab Farmers Market":MAILTO:bhorton@arabcity.org
END:VEVENT
BEGIN:VEVENT
DTSTART;TZID=America/Chicago:20260411T070000
DTEND;TZID=America/Chicago:20260411T150000
DTSTAMP:20260211T060933
CREATED:20260121T181854Z
LAST-MODIFIED:20260121T181854Z
UID:10002077-1775890800-1775919600@arab-chamber.org
SUMMARY:Arab Farmers Market
DESCRIPTION:Come shop from local Farmers and Vendors at the Arab Farmers Market. The market will be open daily from 7 a.m. – 3 p.m. Vendor availability will be based on growing season and weather. Visit the Arab Farmers Market Facebook page for the latest updates.
URL:https://arab-chamber.org/event/arab-farmers-market-16/2026-04-11/
LOCATION:Arab Farmers Market\, 307 North Main Street\, Arab\, AL\, 35016\, United States
CATEGORIES:Community Events,FREE Events
ATTACH;FMTTYPE=image/png:https://arab-chamber.org/wp-content/uploads/2024/11/Farmersmarket.png
ORGANIZER;CN="Arab Farmers Market":MAILTO:bhorton@arabcity.org
END:VEVENT
END:VCALENDAR