BEGIN:VCALENDAR
VERSION:2.0
PRODID:-//Arab Chamber of Commerce - ECPv6.15.20//NONSGML v1.0//EN
CALSCALE:GREGORIAN
METHOD:PUBLISH
X-WR-CALNAME:Arab Chamber of Commerce
X-ORIGINAL-URL:https://arab-chamber.org
X-WR-CALDESC:Events for Arab Chamber of Commerce
REFRESH-INTERVAL;VALUE=DURATION:PT1H
X-Robots-Tag:noindex
X-PUBLISHED-TTL:PT1H
BEGIN:VTIMEZONE
TZID:America/Chicago
BEGIN:DAYLIGHT
TZOFFSETFROM:-0600
TZOFFSETTO:-0500
TZNAME:CDT
DTSTART:20250309T080000
END:DAYLIGHT
BEGIN:STANDARD
TZOFFSETFROM:-0500
TZOFFSETTO:-0600
TZNAME:CST
DTSTART:20251102T070000
END:STANDARD
BEGIN:DAYLIGHT
TZOFFSETFROM:-0600
TZOFFSETTO:-0500
TZNAME:CDT
DTSTART:20260308T080000
END:DAYLIGHT
BEGIN:STANDARD
TZOFFSETFROM:-0500
TZOFFSETTO:-0600
TZNAME:CST
DTSTART:20261101T070000
END:STANDARD
BEGIN:DAYLIGHT
TZOFFSETFROM:-0600
TZOFFSETTO:-0500
TZNAME:CDT
DTSTART:20270314T080000
END:DAYLIGHT
BEGIN:STANDARD
TZOFFSETFROM:-0500
TZOFFSETTO:-0600
TZNAME:CST
DTSTART:20271107T070000
END:STANDARD
END:VTIMEZONE
BEGIN:VEVENT
DTSTART;TZID=America/Chicago:20260424T070000
DTEND;TZID=America/Chicago:20260424T150000
DTSTAMP:20260424T051602
CREATED:20260121T181854Z
LAST-MODIFIED:20260121T181854Z
UID:10002090-1777014000-1777042800@arab-chamber.org
SUMMARY:Arab Farmers Market
DESCRIPTION:Come shop from local Farmers and Vendors at the Arab Farmers Market. The market will be open daily from 7 a.m. – 3 p.m. Vendor availability will be based on growing season and weather. Visit the Arab Farmers Market Facebook page for the latest updates.
URL:https://arab-chamber.org/event/arab-farmers-market-16/2026-04-24/
LOCATION:Arab Farmers Market\, 307 North Main Street\, Arab\, AL\, 35016\, United States
CATEGORIES:Community Events,FREE Events
ATTACH;FMTTYPE=image/png:https://arab-chamber.org/wp-content/uploads/2024/11/Farmersmarket.png
ORGANIZER;CN="Arab Farmers Market":MAILTO:bhorton@arabcity.org
END:VEVENT
BEGIN:VEVENT
DTSTART;TZID=America/Chicago:20260425T070000
DTEND;TZID=America/Chicago:20260425T150000
DTSTAMP:20260424T051602
CREATED:20260121T181854Z
LAST-MODIFIED:20260121T181854Z
UID:10002091-1777100400-1777129200@arab-chamber.org
SUMMARY:Arab Farmers Market
DESCRIPTION:Come shop from local Farmers and Vendors at the Arab Farmers Market. The market will be open daily from 7 a.m. – 3 p.m. Vendor availability will be based on growing season and weather. Visit the Arab Farmers Market Facebook page for the latest updates.
URL:https://arab-chamber.org/event/arab-farmers-market-16/2026-04-25/
LOCATION:Arab Farmers Market\, 307 North Main Street\, Arab\, AL\, 35016\, United States
CATEGORIES:Community Events,FREE Events
ATTACH;FMTTYPE=image/png:https://arab-chamber.org/wp-content/uploads/2024/11/Farmersmarket.png
ORGANIZER;CN="Arab Farmers Market":MAILTO:bhorton@arabcity.org
END:VEVENT
BEGIN:VEVENT
DTSTART;TZID=America/Chicago:20260426T070000
DTEND;TZID=America/Chicago:20260426T150000
DTSTAMP:20260424T051602
CREATED:20260121T181854Z
LAST-MODIFIED:20260121T181854Z
UID:10002092-1777186800-1777215600@arab-chamber.org
SUMMARY:Arab Farmers Market
DESCRIPTION:Come shop from local Farmers and Vendors at the Arab Farmers Market. The market will be open daily from 7 a.m. – 3 p.m. Vendor availability will be based on growing season and weather. Visit the Arab Farmers Market Facebook page for the latest updates.
URL:https://arab-chamber.org/event/arab-farmers-market-16/2026-04-26/
LOCATION:Arab Farmers Market\, 307 North Main Street\, Arab\, AL\, 35016\, United States
CATEGORIES:Community Events,FREE Events
ATTACH;FMTTYPE=image/png:https://arab-chamber.org/wp-content/uploads/2024/11/Farmersmarket.png
ORGANIZER;CN="Arab Farmers Market":MAILTO:bhorton@arabcity.org
END:VEVENT
BEGIN:VEVENT
DTSTART;TZID=America/Chicago:20260427T070000
DTEND;TZID=America/Chicago:20260427T150000
DTSTAMP:20260424T051602
CREATED:20260121T181854Z
LAST-MODIFIED:20260121T181854Z
UID:10002093-1777273200-1777302000@arab-chamber.org
SUMMARY:Arab Farmers Market
DESCRIPTION:Come shop from local Farmers and Vendors at the Arab Farmers Market. The market will be open daily from 7 a.m. – 3 p.m. Vendor availability will be based on growing season and weather. Visit the Arab Farmers Market Facebook page for the latest updates.
URL:https://arab-chamber.org/event/arab-farmers-market-16/2026-04-27/
LOCATION:Arab Farmers Market\, 307 North Main Street\, Arab\, AL\, 35016\, United States
CATEGORIES:Community Events,FREE Events
ATTACH;FMTTYPE=image/png:https://arab-chamber.org/wp-content/uploads/2024/11/Farmersmarket.png
ORGANIZER;CN="Arab Farmers Market":MAILTO:bhorton@arabcity.org
END:VEVENT
BEGIN:VEVENT
DTSTART;TZID=America/Chicago:20260428T070000
DTEND;TZID=America/Chicago:20260428T150000
DTSTAMP:20260424T051602
CREATED:20260121T181854Z
LAST-MODIFIED:20260121T181854Z
UID:10002094-1777359600-1777388400@arab-chamber.org
SUMMARY:Arab Farmers Market
DESCRIPTION:Come shop from local Farmers and Vendors at the Arab Farmers Market. The market will be open daily from 7 a.m. – 3 p.m. Vendor availability will be based on growing season and weather. Visit the Arab Farmers Market Facebook page for the latest updates.
URL:https://arab-chamber.org/event/arab-farmers-market-16/2026-04-28/
LOCATION:Arab Farmers Market\, 307 North Main Street\, Arab\, AL\, 35016\, United States
CATEGORIES:Community Events,FREE Events
ATTACH;FMTTYPE=image/png:https://arab-chamber.org/wp-content/uploads/2024/11/Farmersmarket.png
ORGANIZER;CN="Arab Farmers Market":MAILTO:bhorton@arabcity.org
END:VEVENT
BEGIN:VEVENT
DTSTART;TZID=America/Chicago:20260429T070000
DTEND;TZID=America/Chicago:20260429T150000
DTSTAMP:20260424T051602
CREATED:20260121T181854Z
LAST-MODIFIED:20260121T181854Z
UID:10002095-1777446000-1777474800@arab-chamber.org
SUMMARY:Arab Farmers Market
DESCRIPTION:Come shop from local Farmers and Vendors at the Arab Farmers Market. The market will be open daily from 7 a.m. – 3 p.m. Vendor availability will be based on growing season and weather. Visit the Arab Farmers Market Facebook page for the latest updates.
URL:https://arab-chamber.org/event/arab-farmers-market-16/2026-04-29/
LOCATION:Arab Farmers Market\, 307 North Main Street\, Arab\, AL\, 35016\, United States
CATEGORIES:Community Events,FREE Events
ATTACH;FMTTYPE=image/png:https://arab-chamber.org/wp-content/uploads/2024/11/Farmersmarket.png
ORGANIZER;CN="Arab Farmers Market":MAILTO:bhorton@arabcity.org
END:VEVENT
BEGIN:VEVENT
DTSTART;TZID=America/Chicago:20260430T070000
DTEND;TZID=America/Chicago:20260430T150000
DTSTAMP:20260424T051602
CREATED:20260121T181854Z
LAST-MODIFIED:20260121T181854Z
UID:10002096-1777532400-1777561200@arab-chamber.org
SUMMARY:Arab Farmers Market
DESCRIPTION:Come shop from local Farmers and Vendors at the Arab Farmers Market. The market will be open daily from 7 a.m. – 3 p.m. Vendor availability will be based on growing season and weather. Visit the Arab Farmers Market Facebook page for the latest updates.
URL:https://arab-chamber.org/event/arab-farmers-market-16/2026-04-30/
LOCATION:Arab Farmers Market\, 307 North Main Street\, Arab\, AL\, 35016\, United States
CATEGORIES:Community Events,FREE Events
ATTACH;FMTTYPE=image/png:https://arab-chamber.org/wp-content/uploads/2024/11/Farmersmarket.png
ORGANIZER;CN="Arab Farmers Market":MAILTO:bhorton@arabcity.org
END:VEVENT
BEGIN:VEVENT
DTSTART;TZID=America/Chicago:20260501T070000
DTEND;TZID=America/Chicago:20260501T150000
DTSTAMP:20260424T051602
CREATED:20260121T181854Z
LAST-MODIFIED:20260121T181854Z
UID:10002097-1777618800-1777647600@arab-chamber.org
SUMMARY:Arab Farmers Market
DESCRIPTION:Come shop from local Farmers and Vendors at the Arab Farmers Market. The market will be open daily from 7 a.m. – 3 p.m. Vendor availability will be based on growing season and weather. Visit the Arab Farmers Market Facebook page for the latest updates.
URL:https://arab-chamber.org/event/arab-farmers-market-16/2026-05-01/
LOCATION:Arab Farmers Market\, 307 North Main Street\, Arab\, AL\, 35016\, United States
CATEGORIES:Community Events,FREE Events
ATTACH;FMTTYPE=image/png:https://arab-chamber.org/wp-content/uploads/2024/11/Farmersmarket.png
ORGANIZER;CN="Arab Farmers Market":MAILTO:bhorton@arabcity.org
END:VEVENT
BEGIN:VEVENT
DTSTART;TZID=America/Chicago:20260502T070000
DTEND;TZID=America/Chicago:20260502T150000
DTSTAMP:20260424T051602
CREATED:20260121T181854Z
LAST-MODIFIED:20260121T181854Z
UID:10002098-1777705200-1777734000@arab-chamber.org
SUMMARY:Arab Farmers Market
DESCRIPTION:Come shop from local Farmers and Vendors at the Arab Farmers Market. The market will be open daily from 7 a.m. – 3 p.m. Vendor availability will be based on growing season and weather. Visit the Arab Farmers Market Facebook page for the latest updates.
URL:https://arab-chamber.org/event/arab-farmers-market-16/2026-05-02/
LOCATION:Arab Farmers Market\, 307 North Main Street\, Arab\, AL\, 35016\, United States
CATEGORIES:Community Events,FREE Events
ATTACH;FMTTYPE=image/png:https://arab-chamber.org/wp-content/uploads/2024/11/Farmersmarket.png
ORGANIZER;CN="Arab Farmers Market":MAILTO:bhorton@arabcity.org
END:VEVENT
BEGIN:VEVENT
DTSTART;TZID=America/Chicago:20260503T070000
DTEND;TZID=America/Chicago:20260503T150000
DTSTAMP:20260424T051602
CREATED:20260121T181854Z
LAST-MODIFIED:20260121T181854Z
UID:10002099-1777791600-1777820400@arab-chamber.org
SUMMARY:Arab Farmers Market
DESCRIPTION:Come shop from local Farmers and Vendors at the Arab Farmers Market. The market will be open daily from 7 a.m. – 3 p.m. Vendor availability will be based on growing season and weather. Visit the Arab Farmers Market Facebook page for the latest updates.
URL:https://arab-chamber.org/event/arab-farmers-market-16/2026-05-03/
LOCATION:Arab Farmers Market\, 307 North Main Street\, Arab\, AL\, 35016\, United States
CATEGORIES:Community Events,FREE Events
ATTACH;FMTTYPE=image/png:https://arab-chamber.org/wp-content/uploads/2024/11/Farmersmarket.png
ORGANIZER;CN="Arab Farmers Market":MAILTO:bhorton@arabcity.org
END:VEVENT
BEGIN:VEVENT
DTSTART;TZID=America/Chicago:20260504T070000
DTEND;TZID=America/Chicago:20260504T150000
DTSTAMP:20260424T051602
CREATED:20260121T181854Z
LAST-MODIFIED:20260121T181854Z
UID:10002100-1777878000-1777906800@arab-chamber.org
SUMMARY:Arab Farmers Market
DESCRIPTION:Come shop from local Farmers and Vendors at the Arab Farmers Market. The market will be open daily from 7 a.m. – 3 p.m. Vendor availability will be based on growing season and weather. Visit the Arab Farmers Market Facebook page for the latest updates.
URL:https://arab-chamber.org/event/arab-farmers-market-16/2026-05-04/
LOCATION:Arab Farmers Market\, 307 North Main Street\, Arab\, AL\, 35016\, United States
CATEGORIES:Community Events,FREE Events
ATTACH;FMTTYPE=image/png:https://arab-chamber.org/wp-content/uploads/2024/11/Farmersmarket.png
ORGANIZER;CN="Arab Farmers Market":MAILTO:bhorton@arabcity.org
END:VEVENT
BEGIN:VEVENT
DTSTART;TZID=America/Chicago:20260505T070000
DTEND;TZID=America/Chicago:20260505T150000
DTSTAMP:20260424T051602
CREATED:20260121T181854Z
LAST-MODIFIED:20260121T181854Z
UID:10002101-1777964400-1777993200@arab-chamber.org
SUMMARY:Arab Farmers Market
DESCRIPTION:Come shop from local Farmers and Vendors at the Arab Farmers Market. The market will be open daily from 7 a.m. – 3 p.m. Vendor availability will be based on growing season and weather. Visit the Arab Farmers Market Facebook page for the latest updates.
URL:https://arab-chamber.org/event/arab-farmers-market-16/2026-05-05/
LOCATION:Arab Farmers Market\, 307 North Main Street\, Arab\, AL\, 35016\, United States
CATEGORIES:Community Events,FREE Events
ATTACH;FMTTYPE=image/png:https://arab-chamber.org/wp-content/uploads/2024/11/Farmersmarket.png
ORGANIZER;CN="Arab Farmers Market":MAILTO:bhorton@arabcity.org
END:VEVENT
BEGIN:VEVENT
DTSTART;TZID=America/Chicago:20260506T070000
DTEND;TZID=America/Chicago:20260506T150000
DTSTAMP:20260424T051602
CREATED:20260121T181854Z
LAST-MODIFIED:20260121T181854Z
UID:10002102-1778050800-1778079600@arab-chamber.org
SUMMARY:Arab Farmers Market
DESCRIPTION:Come shop from local Farmers and Vendors at the Arab Farmers Market. The market will be open daily from 7 a.m. – 3 p.m. Vendor availability will be based on growing season and weather. Visit the Arab Farmers Market Facebook page for the latest updates.
URL:https://arab-chamber.org/event/arab-farmers-market-16/2026-05-06/
LOCATION:Arab Farmers Market\, 307 North Main Street\, Arab\, AL\, 35016\, United States
CATEGORIES:Community Events,FREE Events
ATTACH;FMTTYPE=image/png:https://arab-chamber.org/wp-content/uploads/2024/11/Farmersmarket.png
ORGANIZER;CN="Arab Farmers Market":MAILTO:bhorton@arabcity.org
END:VEVENT
BEGIN:VEVENT
DTSTART;TZID=America/Chicago:20260507T070000
DTEND;TZID=America/Chicago:20260507T150000
DTSTAMP:20260424T051602
CREATED:20260121T181854Z
LAST-MODIFIED:20260121T181854Z
UID:10002103-1778137200-1778166000@arab-chamber.org
SUMMARY:Arab Farmers Market
DESCRIPTION:Come shop from local Farmers and Vendors at the Arab Farmers Market. The market will be open daily from 7 a.m. – 3 p.m. Vendor availability will be based on growing season and weather. Visit the Arab Farmers Market Facebook page for the latest updates.
URL:https://arab-chamber.org/event/arab-farmers-market-16/2026-05-07/
LOCATION:Arab Farmers Market\, 307 North Main Street\, Arab\, AL\, 35016\, United States
CATEGORIES:Community Events,FREE Events
ATTACH;FMTTYPE=image/png:https://arab-chamber.org/wp-content/uploads/2024/11/Farmersmarket.png
ORGANIZER;CN="Arab Farmers Market":MAILTO:bhorton@arabcity.org
END:VEVENT
BEGIN:VEVENT
DTSTART;TZID=America/Chicago:20260508T070000
DTEND;TZID=America/Chicago:20260508T150000
DTSTAMP:20260424T051602
CREATED:20260121T181854Z
LAST-MODIFIED:20260121T181854Z
UID:10002104-1778223600-1778252400@arab-chamber.org
SUMMARY:Arab Farmers Market
DESCRIPTION:Come shop from local Farmers and Vendors at the Arab Farmers Market. The market will be open daily from 7 a.m. – 3 p.m. Vendor availability will be based on growing season and weather. Visit the Arab Farmers Market Facebook page for the latest updates.
URL:https://arab-chamber.org/event/arab-farmers-market-16/2026-05-08/
LOCATION:Arab Farmers Market\, 307 North Main Street\, Arab\, AL\, 35016\, United States
CATEGORIES:Community Events,FREE Events
ATTACH;FMTTYPE=image/png:https://arab-chamber.org/wp-content/uploads/2024/11/Farmersmarket.png
ORGANIZER;CN="Arab Farmers Market":MAILTO:bhorton@arabcity.org
END:VEVENT
BEGIN:VEVENT
DTSTART;TZID=America/Chicago:20260509T070000
DTEND;TZID=America/Chicago:20260509T150000
DTSTAMP:20260424T051602
CREATED:20260121T181854Z
LAST-MODIFIED:20260121T181854Z
UID:10002105-1778310000-1778338800@arab-chamber.org
SUMMARY:Arab Farmers Market
DESCRIPTION:Come shop from local Farmers and Vendors at the Arab Farmers Market. The market will be open daily from 7 a.m. – 3 p.m. Vendor availability will be based on growing season and weather. Visit the Arab Farmers Market Facebook page for the latest updates.
URL:https://arab-chamber.org/event/arab-farmers-market-16/2026-05-09/
LOCATION:Arab Farmers Market\, 307 North Main Street\, Arab\, AL\, 35016\, United States
CATEGORIES:Community Events,FREE Events
ATTACH;FMTTYPE=image/png:https://arab-chamber.org/wp-content/uploads/2024/11/Farmersmarket.png
ORGANIZER;CN="Arab Farmers Market":MAILTO:bhorton@arabcity.org
END:VEVENT
BEGIN:VEVENT
DTSTART;TZID=America/Chicago:20260510T070000
DTEND;TZID=America/Chicago:20260510T150000
DTSTAMP:20260424T051602
CREATED:20260121T181854Z
LAST-MODIFIED:20260121T181854Z
UID:10002106-1778396400-1778425200@arab-chamber.org
SUMMARY:Arab Farmers Market
DESCRIPTION:Come shop from local Farmers and Vendors at the Arab Farmers Market. The market will be open daily from 7 a.m. – 3 p.m. Vendor availability will be based on growing season and weather. Visit the Arab Farmers Market Facebook page for the latest updates.
URL:https://arab-chamber.org/event/arab-farmers-market-16/2026-05-10/
LOCATION:Arab Farmers Market\, 307 North Main Street\, Arab\, AL\, 35016\, United States
CATEGORIES:Community Events,FREE Events
ATTACH;FMTTYPE=image/png:https://arab-chamber.org/wp-content/uploads/2024/11/Farmersmarket.png
ORGANIZER;CN="Arab Farmers Market":MAILTO:bhorton@arabcity.org
END:VEVENT
BEGIN:VEVENT
DTSTART;TZID=America/Chicago:20260511T070000
DTEND;TZID=America/Chicago:20260511T150000
DTSTAMP:20260424T051602
CREATED:20260121T181854Z
LAST-MODIFIED:20260121T181854Z
UID:10002107-1778482800-1778511600@arab-chamber.org
SUMMARY:Arab Farmers Market
DESCRIPTION:Come shop from local Farmers and Vendors at the Arab Farmers Market. The market will be open daily from 7 a.m. – 3 p.m. Vendor availability will be based on growing season and weather. Visit the Arab Farmers Market Facebook page for the latest updates.
URL:https://arab-chamber.org/event/arab-farmers-market-16/2026-05-11/
LOCATION:Arab Farmers Market\, 307 North Main Street\, Arab\, AL\, 35016\, United States
CATEGORIES:Community Events,FREE Events
ATTACH;FMTTYPE=image/png:https://arab-chamber.org/wp-content/uploads/2024/11/Farmersmarket.png
ORGANIZER;CN="Arab Farmers Market":MAILTO:bhorton@arabcity.org
END:VEVENT
BEGIN:VEVENT
DTSTART;TZID=America/Chicago:20260512T070000
DTEND;TZID=America/Chicago:20260512T150000
DTSTAMP:20260424T051602
CREATED:20260121T181854Z
LAST-MODIFIED:20260121T181854Z
UID:10002108-1778569200-1778598000@arab-chamber.org
SUMMARY:Arab Farmers Market
DESCRIPTION:Come shop from local Farmers and Vendors at the Arab Farmers Market. The market will be open daily from 7 a.m. – 3 p.m. Vendor availability will be based on growing season and weather. Visit the Arab Farmers Market Facebook page for the latest updates.
URL:https://arab-chamber.org/event/arab-farmers-market-16/2026-05-12/
LOCATION:Arab Farmers Market\, 307 North Main Street\, Arab\, AL\, 35016\, United States
CATEGORIES:Community Events,FREE Events
ATTACH;FMTTYPE=image/png:https://arab-chamber.org/wp-content/uploads/2024/11/Farmersmarket.png
ORGANIZER;CN="Arab Farmers Market":MAILTO:bhorton@arabcity.org
END:VEVENT
BEGIN:VEVENT
DTSTART;TZID=America/Chicago:20260513T070000
DTEND;TZID=America/Chicago:20260513T150000
DTSTAMP:20260424T051602
CREATED:20260121T181854Z
LAST-MODIFIED:20260121T181854Z
UID:10002109-1778655600-1778684400@arab-chamber.org
SUMMARY:Arab Farmers Market
DESCRIPTION:Come shop from local Farmers and Vendors at the Arab Farmers Market. The market will be open daily from 7 a.m. – 3 p.m. Vendor availability will be based on growing season and weather. Visit the Arab Farmers Market Facebook page for the latest updates.
URL:https://arab-chamber.org/event/arab-farmers-market-16/2026-05-13/
LOCATION:Arab Farmers Market\, 307 North Main Street\, Arab\, AL\, 35016\, United States
CATEGORIES:Community Events,FREE Events
ATTACH;FMTTYPE=image/png:https://arab-chamber.org/wp-content/uploads/2024/11/Farmersmarket.png
ORGANIZER;CN="Arab Farmers Market":MAILTO:bhorton@arabcity.org
END:VEVENT
BEGIN:VEVENT
DTSTART;TZID=America/Chicago:20260514T070000
DTEND;TZID=America/Chicago:20260514T150000
DTSTAMP:20260424T051602
CREATED:20260121T181854Z
LAST-MODIFIED:20260121T181854Z
UID:10002110-1778742000-1778770800@arab-chamber.org
SUMMARY:Arab Farmers Market
DESCRIPTION:Come shop from local Farmers and Vendors at the Arab Farmers Market. The market will be open daily from 7 a.m. – 3 p.m. Vendor availability will be based on growing season and weather. Visit the Arab Farmers Market Facebook page for the latest updates.
URL:https://arab-chamber.org/event/arab-farmers-market-16/2026-05-14/
LOCATION:Arab Farmers Market\, 307 North Main Street\, Arab\, AL\, 35016\, United States
CATEGORIES:Community Events,FREE Events
ATTACH;FMTTYPE=image/png:https://arab-chamber.org/wp-content/uploads/2024/11/Farmersmarket.png
ORGANIZER;CN="Arab Farmers Market":MAILTO:bhorton@arabcity.org
END:VEVENT
BEGIN:VEVENT
DTSTART;TZID=America/Chicago:20260515T070000
DTEND;TZID=America/Chicago:20260515T150000
DTSTAMP:20260424T051602
CREATED:20260121T181854Z
LAST-MODIFIED:20260121T181854Z
UID:10002111-1778828400-1778857200@arab-chamber.org
SUMMARY:Arab Farmers Market
DESCRIPTION:Come shop from local Farmers and Vendors at the Arab Farmers Market. The market will be open daily from 7 a.m. – 3 p.m. Vendor availability will be based on growing season and weather. Visit the Arab Farmers Market Facebook page for the latest updates.
URL:https://arab-chamber.org/event/arab-farmers-market-16/2026-05-15/
LOCATION:Arab Farmers Market\, 307 North Main Street\, Arab\, AL\, 35016\, United States
CATEGORIES:Community Events,FREE Events
ATTACH;FMTTYPE=image/png:https://arab-chamber.org/wp-content/uploads/2024/11/Farmersmarket.png
ORGANIZER;CN="Arab Farmers Market":MAILTO:bhorton@arabcity.org
END:VEVENT
BEGIN:VEVENT
DTSTART;TZID=America/Chicago:20260516T070000
DTEND;TZID=America/Chicago:20260516T150000
DTSTAMP:20260424T051602
CREATED:20260121T181854Z
LAST-MODIFIED:20260121T181854Z
UID:10002112-1778914800-1778943600@arab-chamber.org
SUMMARY:Arab Farmers Market
DESCRIPTION:Come shop from local Farmers and Vendors at the Arab Farmers Market. The market will be open daily from 7 a.m. – 3 p.m. Vendor availability will be based on growing season and weather. Visit the Arab Farmers Market Facebook page for the latest updates.
URL:https://arab-chamber.org/event/arab-farmers-market-16/2026-05-16/
LOCATION:Arab Farmers Market\, 307 North Main Street\, Arab\, AL\, 35016\, United States
CATEGORIES:Community Events,FREE Events
ATTACH;FMTTYPE=image/png:https://arab-chamber.org/wp-content/uploads/2024/11/Farmersmarket.png
ORGANIZER;CN="Arab Farmers Market":MAILTO:bhorton@arabcity.org
END:VEVENT
BEGIN:VEVENT
DTSTART;TZID=America/Chicago:20260517T070000
DTEND;TZID=America/Chicago:20260517T150000
DTSTAMP:20260424T051602
CREATED:20260121T181854Z
LAST-MODIFIED:20260121T181854Z
UID:10002113-1779001200-1779030000@arab-chamber.org
SUMMARY:Arab Farmers Market
DESCRIPTION:Come shop from local Farmers and Vendors at the Arab Farmers Market. The market will be open daily from 7 a.m. – 3 p.m. Vendor availability will be based on growing season and weather. Visit the Arab Farmers Market Facebook page for the latest updates.
URL:https://arab-chamber.org/event/arab-farmers-market-16/2026-05-17/
LOCATION:Arab Farmers Market\, 307 North Main Street\, Arab\, AL\, 35016\, United States
CATEGORIES:Community Events,FREE Events
ATTACH;FMTTYPE=image/png:https://arab-chamber.org/wp-content/uploads/2024/11/Farmersmarket.png
ORGANIZER;CN="Arab Farmers Market":MAILTO:bhorton@arabcity.org
END:VEVENT
BEGIN:VEVENT
DTSTART;TZID=America/Chicago:20260518T070000
DTEND;TZID=America/Chicago:20260518T150000
DTSTAMP:20260424T051602
CREATED:20260121T181854Z
LAST-MODIFIED:20260121T181854Z
UID:10002114-1779087600-1779116400@arab-chamber.org
SUMMARY:Arab Farmers Market
DESCRIPTION:Come shop from local Farmers and Vendors at the Arab Farmers Market. The market will be open daily from 7 a.m. – 3 p.m. Vendor availability will be based on growing season and weather. Visit the Arab Farmers Market Facebook page for the latest updates.
URL:https://arab-chamber.org/event/arab-farmers-market-16/2026-05-18/
LOCATION:Arab Farmers Market\, 307 North Main Street\, Arab\, AL\, 35016\, United States
CATEGORIES:Community Events,FREE Events
ATTACH;FMTTYPE=image/png:https://arab-chamber.org/wp-content/uploads/2024/11/Farmersmarket.png
ORGANIZER;CN="Arab Farmers Market":MAILTO:bhorton@arabcity.org
END:VEVENT
BEGIN:VEVENT
DTSTART;TZID=America/Chicago:20260519T070000
DTEND;TZID=America/Chicago:20260519T150000
DTSTAMP:20260424T051602
CREATED:20260121T181854Z
LAST-MODIFIED:20260121T181854Z
UID:10002115-1779174000-1779202800@arab-chamber.org
SUMMARY:Arab Farmers Market
DESCRIPTION:Come shop from local Farmers and Vendors at the Arab Farmers Market. The market will be open daily from 7 a.m. – 3 p.m. Vendor availability will be based on growing season and weather. Visit the Arab Farmers Market Facebook page for the latest updates.
URL:https://arab-chamber.org/event/arab-farmers-market-16/2026-05-19/
LOCATION:Arab Farmers Market\, 307 North Main Street\, Arab\, AL\, 35016\, United States
CATEGORIES:Community Events,FREE Events
ATTACH;FMTTYPE=image/png:https://arab-chamber.org/wp-content/uploads/2024/11/Farmersmarket.png
ORGANIZER;CN="Arab Farmers Market":MAILTO:bhorton@arabcity.org
END:VEVENT
BEGIN:VEVENT
DTSTART;TZID=America/Chicago:20260520T070000
DTEND;TZID=America/Chicago:20260520T150000
DTSTAMP:20260424T051602
CREATED:20260121T181854Z
LAST-MODIFIED:20260121T181854Z
UID:10002116-1779260400-1779289200@arab-chamber.org
SUMMARY:Arab Farmers Market
DESCRIPTION:Come shop from local Farmers and Vendors at the Arab Farmers Market. The market will be open daily from 7 a.m. – 3 p.m. Vendor availability will be based on growing season and weather. Visit the Arab Farmers Market Facebook page for the latest updates.
URL:https://arab-chamber.org/event/arab-farmers-market-16/2026-05-20/
LOCATION:Arab Farmers Market\, 307 North Main Street\, Arab\, AL\, 35016\, United States
CATEGORIES:Community Events,FREE Events
ATTACH;FMTTYPE=image/png:https://arab-chamber.org/wp-content/uploads/2024/11/Farmersmarket.png
ORGANIZER;CN="Arab Farmers Market":MAILTO:bhorton@arabcity.org
END:VEVENT
BEGIN:VEVENT
DTSTART;TZID=America/Chicago:20260521T070000
DTEND;TZID=America/Chicago:20260521T150000
DTSTAMP:20260424T051602
CREATED:20260121T181854Z
LAST-MODIFIED:20260121T181854Z
UID:10002117-1779346800-1779375600@arab-chamber.org
SUMMARY:Arab Farmers Market
DESCRIPTION:Come shop from local Farmers and Vendors at the Arab Farmers Market. The market will be open daily from 7 a.m. – 3 p.m. Vendor availability will be based on growing season and weather. Visit the Arab Farmers Market Facebook page for the latest updates.
URL:https://arab-chamber.org/event/arab-farmers-market-16/2026-05-21/
LOCATION:Arab Farmers Market\, 307 North Main Street\, Arab\, AL\, 35016\, United States
CATEGORIES:Community Events,FREE Events
ATTACH;FMTTYPE=image/png:https://arab-chamber.org/wp-content/uploads/2024/11/Farmersmarket.png
ORGANIZER;CN="Arab Farmers Market":MAILTO:bhorton@arabcity.org
END:VEVENT
BEGIN:VEVENT
DTSTART;TZID=America/Chicago:20260522T070000
DTEND;TZID=America/Chicago:20260522T150000
DTSTAMP:20260424T051602
CREATED:20260121T181854Z
LAST-MODIFIED:20260121T181854Z
UID:10002118-1779433200-1779462000@arab-chamber.org
SUMMARY:Arab Farmers Market
DESCRIPTION:Come shop from local Farmers and Vendors at the Arab Farmers Market. The market will be open daily from 7 a.m. – 3 p.m. Vendor availability will be based on growing season and weather. Visit the Arab Farmers Market Facebook page for the latest updates.
URL:https://arab-chamber.org/event/arab-farmers-market-16/2026-05-22/
LOCATION:Arab Farmers Market\, 307 North Main Street\, Arab\, AL\, 35016\, United States
CATEGORIES:Community Events,FREE Events
ATTACH;FMTTYPE=image/png:https://arab-chamber.org/wp-content/uploads/2024/11/Farmersmarket.png
ORGANIZER;CN="Arab Farmers Market":MAILTO:bhorton@arabcity.org
END:VEVENT
BEGIN:VEVENT
DTSTART;TZID=America/Chicago:20260523T070000
DTEND;TZID=America/Chicago:20260523T150000
DTSTAMP:20260424T051602
CREATED:20260121T181854Z
LAST-MODIFIED:20260121T181854Z
UID:10002119-1779519600-1779548400@arab-chamber.org
SUMMARY:Arab Farmers Market
DESCRIPTION:Come shop from local Farmers and Vendors at the Arab Farmers Market. The market will be open daily from 7 a.m. – 3 p.m. Vendor availability will be based on growing season and weather. Visit the Arab Farmers Market Facebook page for the latest updates.
URL:https://arab-chamber.org/event/arab-farmers-market-16/2026-05-23/
LOCATION:Arab Farmers Market\, 307 North Main Street\, Arab\, AL\, 35016\, United States
CATEGORIES:Community Events,FREE Events
ATTACH;FMTTYPE=image/png:https://arab-chamber.org/wp-content/uploads/2024/11/Farmersmarket.png
ORGANIZER;CN="Arab Farmers Market":MAILTO:bhorton@arabcity.org
END:VEVENT
END:VCALENDAR